BEGIN:VCALENDAR
VERSION:2.0
PRODID:Spatie calendar-links
BEGIN:VEVENT
UID:ca0624f566dc35a3df4e6cef8a6e3bd7
SUMMARY:2026 Summer Solstice - pheel. Alex Unger\, TF Marz Zone Drums
DTSTAMP:20260620T190000Z
DTSTART:20260620T190000Z
DTEND:20260621T050000Z
DESCRIPTION:Details: https://www.cosm.org/calendar/2026-summer-solstice-pheel-alex-unger-tf-marz-zone-drums
LOCATION:https://www.cosm.org/calendar/2026-summer-solstice-pheel-alex-unger-tf-marz-zone-drums
END:VEVENT
END:VCALENDAR