BEGIN:VCALENDAR
VERSION:2.0
PRODID:Spatie calendar-links
BEGIN:VEVENT
UID:b27005ce7c20968e76bb38d85307e0ac
SUMMARY:Entheon at CoSM: 2026 Day Pass
DTSTAMP:20260904T160000Z
DTSTART:20260904T160000Z
DTEND:20260904T220000Z
DESCRIPTION:Details: https://www.cosm.org/calendar/entheon-at-cosm-2026-day-pass-105
LOCATION:https://www.cosm.org/calendar/entheon-at-cosm-2026-day-pass-105
END:VEVENT
END:VCALENDAR