BEGIN:VCALENDAR
VERSION:2.0
PRODID:Spatie calendar-links
BEGIN:VEVENT
UID:9702dda489696c4e7aaae3b62eb0b588
SUMMARY:Entheon at CoSM: 2026 Day Pass
DTSTAMP:20260905T160000Z
DTSTART:20260905T160000Z
DTEND:20260905T220000Z
DESCRIPTION:Details: https://www.cosm.org/calendar/entheon-at-cosm-2026-day-pass-106
LOCATION:https://www.cosm.org/calendar/entheon-at-cosm-2026-day-pass-106
END:VEVENT
END:VCALENDAR